Package: snm Version: 1.55.0 Command: /Library/Frameworks/R.framework/Resources/bin/R CMD INSTALL snm StartedAt: 2025-02-09 15:03:31 -0500 (Sun, 09 Feb 2025) EndedAt: 2025-02-09 15:03:35 -0500 (Sun, 09 Feb 2025) EllapsedTime: 3.7 seconds RetCode: 0 Status: OK