Package: snm Version: 1.55.0 Command: /home/biocbuild/R/R/bin/R CMD build --keep-empty-dirs --no-resave-data snm StartedAt: 2025-01-29 02:27:37 -0000 (Wed, 29 Jan 2025) EndedAt: 2025-01-29 02:30:38 -0000 (Wed, 29 Jan 2025) EllapsedTime: 181.2 seconds RetCode: 0 Status: OK PackageFile: snm_1.55.0.tar.gz PackageFileSize: 718.5 KiB