Package: snm Version: 1.55.0 Command: /home/biocbuild/R/R/bin/R CMD check --install=check:snm.install-out.txt --library=/home/biocbuild/R/R/site-library --no-vignettes --timings snm_1.55.0.tar.gz StartedAt: 2025-01-28 15:29:09 -0000 (Tue, 28 Jan 2025) EndedAt: 2025-01-28 15:35:13 -0000 (Tue, 28 Jan 2025) EllapsedTime: 364.4 seconds RetCode: 0 Status: OK CheckDir: snm.Rcheck Warnings: 0