Package: snm Version: 1.55.0 Command: /home/biocbuild/R/R/bin/R CMD INSTALL snm StartedAt: 2025-01-29 19:35:58 -0000 (Wed, 29 Jan 2025) EndedAt: 2025-01-29 19:36:21 -0000 (Wed, 29 Jan 2025) EllapsedTime: 22.6 seconds RetCode: 0 Status: OK