Package: snm Version: 1.55.0 Command: /Library/Frameworks/R.framework/Resources/bin/R CMD INSTALL snm StartedAt: 2025-02-09 15:07:50 -0500 (Sun, 09 Feb 2025) EndedAt: 2025-02-09 15:08:21 -0500 (Sun, 09 Feb 2025) EllapsedTime: 31.1 seconds RetCode: 0 Status: OK