Package: snm Version: 1.55.0 Command: /home/biocbuild/bbs-3.21-bioc/R/bin/R CMD INSTALL snm StartedAt: 2025-02-04 15:05:09 -0500 (Tue, 04 Feb 2025) EndedAt: 2025-02-04 15:05:39 -0500 (Tue, 04 Feb 2025) EllapsedTime: 30.2 seconds RetCode: 0 Status: OK