Package: snm Version: 1.55.0 Command: rm -rf snm.buildbin-libdir && mkdir snm.buildbin-libdir && E:\biocbuild\bbs-3.21-bioc\R\bin\R.exe CMD INSTALL --build --library=snm.buildbin-libdir snm_1.55.0.tar.gz StartedAt: 2025-02-13 08:56:08 -0500 (Thu, 13 Feb 2025) EndedAt: 2025-02-13 08:56:20 -0500 (Thu, 13 Feb 2025) EllapsedTime: 11.9 seconds RetCode: 0 Status: OK PackageFile: snm_1.55.0.zip PackageFileSize: 457.4 KiB