Package: snm Version: 1.55.0 Command: chmod a+r snm -R && E:\biocbuild\bbs-3.21-bioc\R\bin\R.exe CMD build --keep-empty-dirs --no-resave-data snm StartedAt: 2025-02-09 21:45:48 -0500 (Sun, 09 Feb 2025) EndedAt: 2025-02-09 21:47:52 -0500 (Sun, 09 Feb 2025) EllapsedTime: 124.5 seconds RetCode: 0 Status: OK PackageFile: snm_1.55.0.tar.gz PackageFileSize: 567.6 KiB