Package: snm Version: 1.55.0 Command: E:\biocbuild\bbs-3.21-bioc\R\bin\R.exe CMD INSTALL snm StartedAt: 2025-02-09 15:29:15 -0500 (Sun, 09 Feb 2025) EndedAt: 2025-02-09 15:29:30 -0500 (Sun, 09 Feb 2025) EllapsedTime: 15.1 seconds RetCode: 0 Status: OK