Package: soGGi Version: 1.39.0 Command: rm -rf soGGi.buildbin-libdir && mkdir soGGi.buildbin-libdir && /Users/biocbuild/BBS/utils/build-universal.sh soGGi_1.39.0.tar.gz /Library/Frameworks/R.framework/Resources/bin/R soGGi.buildbin-libdir StartedAt: 2025-02-10 01:17:42 -0500 (Mon, 10 Feb 2025) EndedAt: 2025-02-10 01:18:42 -0500 (Mon, 10 Feb 2025) EllapsedTime: 60.1 seconds RetCode: 0 Status: OK PackageFile: soGGi_1.39.0.tgz PackageFileSize: 3.704 MiB