Package: soGGi Version: 1.39.0 Command: rm -rf soGGi.buildbin-libdir && mkdir soGGi.buildbin-libdir && E:\biocbuild\bbs-3.21-bioc\R\bin\R.exe CMD INSTALL --build --library=soGGi.buildbin-libdir soGGi_1.39.0.tar.gz StartedAt: 2025-02-10 08:45:42 -0500 (Mon, 10 Feb 2025) EndedAt: 2025-02-10 08:46:34 -0500 (Mon, 10 Feb 2025) EllapsedTime: 52.1 seconds RetCode: 0 Status: OK PackageFile: soGGi_1.39.0.zip PackageFileSize: 3.441 MiB