Package: spaSim Version: 1.9.0 Command: /home/biocbuild/bbs-3.21-bioc/R/bin/R CMD build --keep-empty-dirs --no-resave-data spaSim StartedAt: 2025-02-09 19:22:26 -0500 (Sun, 09 Feb 2025) EndedAt: 2025-02-09 19:24:09 -0500 (Sun, 09 Feb 2025) EllapsedTime: 103.1 seconds RetCode: 0 Status: OK PackageFile: spaSim_1.9.0.tar.gz PackageFileSize: 3.439 MiB