Package: spaSim Version: 1.9.0 Command: /home/biocbuild/bbs-3.21-bioc/R/bin/R CMD check --install=check:spaSim.install-out.txt --library=/home/biocbuild/bbs-3.21-bioc/R/site-library --timings spaSim_1.9.0.tar.gz StartedAt: 2025-02-13 02:53:05 -0500 (Thu, 13 Feb 2025) EndedAt: 2025-02-13 02:59:12 -0500 (Thu, 13 Feb 2025) EllapsedTime: 367.5 seconds RetCode: 0 Status: OK CheckDir: spaSim.Rcheck Warnings: 0