Package: spaSim Version: 1.9.0 Command: chmod a+r spaSim -R && E:\biocbuild\bbs-3.21-bioc\R\bin\R.exe CMD build --keep-empty-dirs --no-resave-data spaSim StartedAt: 2025-02-09 21:47:53 -0500 (Sun, 09 Feb 2025) EndedAt: 2025-02-09 21:50:03 -0500 (Sun, 09 Feb 2025) EllapsedTime: 130.3 seconds RetCode: 0 Status: OK PackageFile: spaSim_1.9.0.tar.gz PackageFileSize: 1004 KiB