Package: sparseMatrixStats Version: 1.19.0 Command: /Library/Frameworks/R.framework/Resources/bin/R CMD INSTALL sparseMatrixStats StartedAt: 2025-02-09 15:02:25 -0500 (Sun, 09 Feb 2025) EndedAt: 2025-02-09 15:02:40 -0500 (Sun, 09 Feb 2025) EllapsedTime: 14.3 seconds RetCode: 0 Status: OK