Package: sparseMatrixStats Version: 1.19.0 Command: /home/biocbuild/R/R/bin/R CMD INSTALL sparseMatrixStats StartedAt: 2025-01-29 19:32:58 -0000 (Wed, 29 Jan 2025) EndedAt: 2025-01-29 19:33:53 -0000 (Wed, 29 Jan 2025) EllapsedTime: 54.4 seconds RetCode: 0 Status: OK