Package: sparseMatrixStats Version: 1.19.0 Command: /Library/Frameworks/R.framework/Resources/bin/R CMD build --keep-empty-dirs --no-resave-data sparseMatrixStats StartedAt: 2025-02-09 18:32:30 -0500 (Sun, 09 Feb 2025) EndedAt: 2025-02-09 18:33:05 -0500 (Sun, 09 Feb 2025) EllapsedTime: 34.3 seconds RetCode: 0 Status: OK PackageFile: sparseMatrixStats_1.19.0.tar.gz PackageFileSize: 687.6 KiB