Package: sparseMatrixStats Version: 1.19.0 Command: chmod a+r sparseMatrixStats -R && E:\biocbuild\bbs-3.21-bioc\R\bin\R.exe CMD build --keep-empty-dirs --no-resave-data sparseMatrixStats StartedAt: 2025-02-04 21:49:49 -0500 (Tue, 04 Feb 2025) EndedAt: 2025-02-04 21:50:50 -0500 (Tue, 04 Feb 2025) EllapsedTime: 61.6 seconds RetCode: 0 Status: OK PackageFile: sparseMatrixStats_1.19.0.tar.gz PackageFileSize: 687.8 KiB