Package: sparsenetgls Version: 1.25.0 Command: /Library/Frameworks/R.framework/Resources/bin/R CMD build --keep-empty-dirs --no-resave-data sparsenetgls StartedAt: 2025-02-09 17:40:37 -0500 (Sun, 09 Feb 2025) EndedAt: 2025-02-09 17:42:00 -0500 (Sun, 09 Feb 2025) EllapsedTime: 82.9 seconds RetCode: 0 Status: OK PackageFile: sparsenetgls_1.25.0.tar.gz PackageFileSize: 587.4 KiB