Package: sparsenetgls Version: 1.25.0 Command: /home/biocbuild/R/R/bin/R CMD build --keep-empty-dirs --no-resave-data sparsenetgls StartedAt: 2025-01-29 02:30:26 -0000 (Wed, 29 Jan 2025) EndedAt: 2025-01-29 02:34:45 -0000 (Wed, 29 Jan 2025) EllapsedTime: 259.2 seconds RetCode: 0 Status: OK PackageFile: sparsenetgls_1.25.0.tar.gz PackageFileSize: 414.7 KiB