Package: sparsenetgls Version: 1.25.0 Command: rm -rf sparsenetgls.buildbin-libdir && mkdir sparsenetgls.buildbin-libdir && /Users/biocbuild/BBS/utils/build-universal.sh sparsenetgls_1.25.0.tar.gz /Library/Frameworks/R.framework/Resources/bin/R sparsenetgls.buildbin-libdir StartedAt: 2025-02-10 01:17:59 -0500 (Mon, 10 Feb 2025) EndedAt: 2025-02-10 01:18:11 -0500 (Mon, 10 Feb 2025) EllapsedTime: 11.5 seconds RetCode: 0 Status: OK PackageFile: sparsenetgls_1.25.0.tgz PackageFileSize: 702.7 KiB