Package: sparsenetgls Version: 1.25.0 Command: /Library/Frameworks/R.framework/Resources/bin/R CMD build --keep-empty-dirs --no-resave-data sparsenetgls StartedAt: 2025-02-09 18:32:34 -0500 (Sun, 09 Feb 2025) EndedAt: 2025-02-09 18:35:44 -0500 (Sun, 09 Feb 2025) EllapsedTime: 190.6 seconds RetCode: 0 Status: OK PackageFile: sparsenetgls_1.25.0.tar.gz PackageFileSize: 657.7 KiB