Package: sparsenetgls Version: 1.25.0 Command: /Library/Frameworks/R.framework/Resources/bin/R CMD check --install=check:sparsenetgls.install-out.txt --library=/Library/Frameworks/R.framework/Resources/library --no-vignettes --timings sparsenetgls_1.25.0.tar.gz StartedAt: 2025-02-09 23:46:30 -0500 (Sun, 09 Feb 2025) EndedAt: 2025-02-09 23:48:13 -0500 (Sun, 09 Feb 2025) EllapsedTime: 103.1 seconds RetCode: 0 Status: OK CheckDir: sparsenetgls.Rcheck Warnings: 0