Package: sparsenetgls Version: 1.25.0 Command: /Library/Frameworks/R.framework/Resources/bin/R CMD INSTALL sparsenetgls StartedAt: 2025-02-12 15:31:16 -0500 (Wed, 12 Feb 2025) EndedAt: 2025-02-12 15:31:26 -0500 (Wed, 12 Feb 2025) EllapsedTime: 9.8 seconds RetCode: 0 Status: OK