Package: sparsenetgls Version: 1.25.0 Command: /home/biocbuild/bbs-3.21-bioc/R/bin/R CMD build --keep-empty-dirs --no-resave-data sparsenetgls StartedAt: 2025-02-09 19:22:13 -0500 (Sun, 09 Feb 2025) EndedAt: 2025-02-09 19:25:27 -0500 (Sun, 09 Feb 2025) EllapsedTime: 194.2 seconds RetCode: 0 Status: OK PackageFile: sparsenetgls_1.25.0.tar.gz PackageFileSize: 602.2 KiB