Package: sparsenetgls Version: 1.25.0 Command: /home/biocbuild/bbs-3.21-bioc/R/bin/R CMD check --install=check:sparsenetgls.install-out.txt --library=/home/biocbuild/bbs-3.21-bioc/R/site-library --timings sparsenetgls_1.25.0.tar.gz StartedAt: 2025-02-10 02:52:02 -0500 (Mon, 10 Feb 2025) EndedAt: 2025-02-10 02:56:15 -0500 (Mon, 10 Feb 2025) EllapsedTime: 252.3 seconds RetCode: 0 Status: OK CheckDir: sparsenetgls.Rcheck Warnings: 0