Package: sparsenetgls Version: 1.25.0 Command: /home/biocbuild/bbs-3.21-bioc/R/bin/R CMD INSTALL sparsenetgls StartedAt: 2025-02-12 15:06:43 -0500 (Wed, 12 Feb 2025) EndedAt: 2025-02-12 15:07:07 -0500 (Wed, 12 Feb 2025) EllapsedTime: 24.6 seconds RetCode: 0 Status: OK