Package: sparsenetgls Version: 1.25.0 Command: rm -rf sparsenetgls.buildbin-libdir && mkdir sparsenetgls.buildbin-libdir && E:\biocbuild\bbs-3.21-bioc\R\bin\R.exe CMD INSTALL --build --library=sparsenetgls.buildbin-libdir sparsenetgls_1.25.0.tar.gz StartedAt: 2025-02-10 08:46:12 -0500 (Mon, 10 Feb 2025) EndedAt: 2025-02-10 08:46:30 -0500 (Mon, 10 Feb 2025) EllapsedTime: 18.2 seconds RetCode: 0 Status: OK PackageFile: sparsenetgls_1.25.0.zip PackageFileSize: 327.9 KiB