Package: sparsenetgls Version: 1.25.0 Command: chmod a+r sparsenetgls -R && E:\biocbuild\bbs-3.21-bioc\R\bin\R.exe CMD build --keep-empty-dirs --no-resave-data sparsenetgls StartedAt: 2025-02-09 21:47:41 -0500 (Sun, 09 Feb 2025) EndedAt: 2025-02-09 21:51:44 -0500 (Sun, 09 Feb 2025) EllapsedTime: 242.2 seconds RetCode: 0 Status: OK PackageFile: sparsenetgls_1.25.0.tar.gz PackageFileSize: 278.9 KiB