Package: sparsenetgls Version: 1.25.0 Command: E:\biocbuild\bbs-3.21-bioc\R\bin\R.exe CMD INSTALL sparsenetgls StartedAt: 2025-02-12 15:56:15 -0500 (Wed, 12 Feb 2025) EndedAt: 2025-02-12 15:56:41 -0500 (Wed, 12 Feb 2025) EllapsedTime: 26.3 seconds RetCode: 0 Status: OK