Package: spatialFDA Version: 0.99.8 Maintainer: Martin Emons MaintainerEmail: martin.emons at uzh.ch git_url: https://git.bioconductor.org/packages/spatialFDA git_branch: devel git_last_commit: bfb797e git_last_commit_date: 2025-02-05 07:05:18 -0500 (Wed, 05 Feb 2025)