Package: spatialFDA Version: 0.99.11 Command: rm -rf spatialFDA.buildbin-libdir && mkdir spatialFDA.buildbin-libdir && /Users/biocbuild/BBS/utils/build-universal.sh spatialFDA_0.99.11.tar.gz /Library/Frameworks/R.framework/Resources/bin/R spatialFDA.buildbin-libdir StartedAt: 2025-02-12 22:37:09 -0500 (Wed, 12 Feb 2025) EndedAt: 2025-02-12 22:37:24 -0500 (Wed, 12 Feb 2025) EllapsedTime: 15.4 seconds RetCode: 0 Status: OK PackageFile: spatialFDA_0.99.11.tgz PackageFileSize: 3.7 MiB