Package: spatialFDA Version: 0.99.5 Command: /home/biocbuild/R/R/bin/R CMD INSTALL spatialFDA StartedAt: 2025-01-29 20:37:47 -0000 (Wed, 29 Jan 2025) EndedAt: 2025-01-29 20:38:22 -0000 (Wed, 29 Jan 2025) EllapsedTime: 35.6 seconds RetCode: 0 Status: OK