############################################################################## ############################################################################## ### ### Running command: ### ### rm -rf spatialFDA.buildbin-libdir && mkdir spatialFDA.buildbin-libdir && E:\biocbuild\bbs-3.21-bioc\R\bin\R.exe CMD INSTALL --build --library=spatialFDA.buildbin-libdir spatialFDA_0.99.8.tar.gz ### ############################################################################## ############################################################################## * installing *source* package 'spatialFDA' ... ** this is package 'spatialFDA' version '0.99.8' ** using staged installation ** R ** inst ** byte-compile and prepare package for lazy loading ** help *** installing help indices ** building package indices ** installing vignettes ** testing if installed package can be loaded from temporary location ** testing if installed package can be loaded from final location ** testing if installed package keeps a record of temporary installation path * MD5 sums packaged installation of 'spatialFDA' as spatialFDA_0.99.8.zip * DONE (spatialFDA)