Package: spatialFDA Version: 0.99.8 Command: rm -rf spatialFDA.buildbin-libdir && mkdir spatialFDA.buildbin-libdir && E:\biocbuild\bbs-3.21-bioc\R\bin\R.exe CMD INSTALL --build --library=spatialFDA.buildbin-libdir spatialFDA_0.99.8.tar.gz StartedAt: 2025-02-10 08:46:36 -0500 (Mon, 10 Feb 2025) EndedAt: 2025-02-10 08:47:15 -0500 (Mon, 10 Feb 2025) EllapsedTime: 38.7 seconds RetCode: 0 Status: OK PackageFile: spatialFDA_0.99.8.zip PackageFileSize: 784.1 KiB