Package: spatialFDA Version: 0.99.11 Command: chmod a+r spatialFDA -R && E:\biocbuild\bbs-3.21-bioc\R\bin\R.exe CMD build --keep-empty-dirs --no-resave-data spatialFDA StartedAt: 2025-02-12 21:56:34 -0500 (Wed, 12 Feb 2025) EndedAt: 2025-02-12 22:01:03 -0500 (Wed, 12 Feb 2025) EllapsedTime: 269.0 seconds RetCode: 0 Status: OK PackageFile: spatialFDA_0.99.11.tar.gz PackageFileSize: 710.3 KiB