Package: spatialFDA Version: 0.99.11 Command: E:\biocbuild\bbs-3.21-bioc\R\bin\R.exe CMD check --no-multiarch --install=check:spatialFDA.install-out.txt --library=E:\biocbuild\bbs-3.21-bioc\R\library --no-vignettes --timings spatialFDA_0.99.11.tar.gz StartedAt: 2025-02-13 05:52:42 -0500 (Thu, 13 Feb 2025) EndedAt: 2025-02-13 06:02:28 -0500 (Thu, 13 Feb 2025) EllapsedTime: 585.6 seconds RetCode: 0 Status: OK CheckDir: spatialFDA.Rcheck Warnings: 0