Package: spatialFDA Version: 0.99.8 Command: E:\biocbuild\bbs-3.21-bioc\R\bin\R.exe CMD INSTALL spatialFDA StartedAt: 2025-02-09 16:59:47 -0500 (Sun, 09 Feb 2025) EndedAt: 2025-02-09 17:00:23 -0500 (Sun, 09 Feb 2025) EllapsedTime: 35.5 seconds RetCode: 0 Status: OK