Package: spatialHeatmap Version: 2.13.1 Command: rm -rf spatialHeatmap.buildbin-libdir && mkdir spatialHeatmap.buildbin-libdir && /Users/biocbuild/BBS/utils/build-universal.sh spatialHeatmap_2.13.1.tar.gz /Library/Frameworks/R.framework/Resources/bin/R spatialHeatmap.buildbin-libdir StartedAt: 2025-02-09 22:32:04 -0500 (Sun, 09 Feb 2025) EndedAt: 2025-02-09 22:32:24 -0500 (Sun, 09 Feb 2025) EllapsedTime: 20.5 seconds RetCode: 0 Status: OK PackageFile: spatialHeatmap_2.13.1.tgz PackageFileSize: 32.17 MiB