Package: spatialHeatmap Version: 2.13.1 Command: /Library/Frameworks/R.framework/Resources/bin/R CMD check --install=check:spatialHeatmap.install-out.txt --library=/Library/Frameworks/R.framework/Resources/library --no-vignettes --timings spatialHeatmap_2.13.1.tar.gz StartedAt: 2025-02-09 21:30:48 -0500 (Sun, 09 Feb 2025) EndedAt: 2025-02-09 21:33:14 -0500 (Sun, 09 Feb 2025) EllapsedTime: 145.6 seconds RetCode: 0 Status: OK CheckDir: spatialHeatmap.Rcheck Warnings: 0