Package: spatialHeatmap Version: 2.13.1 Command: /Library/Frameworks/R.framework/Resources/bin/R CMD INSTALL spatialHeatmap StartedAt: 2025-02-09 15:26:06 -0500 (Sun, 09 Feb 2025) EndedAt: 2025-02-09 15:26:22 -0500 (Sun, 09 Feb 2025) EllapsedTime: 15.9 seconds RetCode: 0 Status: OK