Package: spatialHeatmap Version: 2.13.1 Command: /home/biocbuild/R/R/bin/R CMD INSTALL spatialHeatmap StartedAt: 2025-01-29 20:29:18 -0000 (Wed, 29 Jan 2025) EndedAt: 2025-01-29 20:30:17 -0000 (Wed, 29 Jan 2025) EllapsedTime: 59.2 seconds RetCode: 0 Status: OK