Package: spatialHeatmap Version: 2.13.1 Command: /Library/Frameworks/R.framework/Resources/bin/R CMD build --keep-empty-dirs --no-resave-data spatialHeatmap StartedAt: 2025-02-09 18:33:18 -0500 (Sun, 09 Feb 2025) EndedAt: 2025-02-09 18:38:29 -0500 (Sun, 09 Feb 2025) EllapsedTime: 310.7 seconds RetCode: 0 Status: OK PackageFile: spatialHeatmap_2.13.1.tar.gz PackageFileSize: 32.37 MiB