Package: spatialHeatmap Version: 2.13.1 Command: /Library/Frameworks/R.framework/Resources/bin/R CMD check --install=check:spatialHeatmap.install-out.txt --library=/Library/Frameworks/R.framework/Resources/library --no-vignettes --timings spatialHeatmap_2.13.1.tar.gz StartedAt: 2025-02-09 23:48:19 -0500 (Sun, 09 Feb 2025) EndedAt: 2025-02-09 23:55:27 -0500 (Sun, 09 Feb 2025) EllapsedTime: 428.1 seconds RetCode: 0 Status: OK CheckDir: spatialHeatmap.Rcheck Warnings: 0