Package: spatialHeatmap Version: 2.13.1 Command: /home/biocbuild/bbs-3.21-bioc/R/bin/R CMD build --keep-empty-dirs --no-resave-data spatialHeatmap StartedAt: 2025-02-09 19:24:03 -0500 (Sun, 09 Feb 2025) EndedAt: 2025-02-09 19:28:34 -0500 (Sun, 09 Feb 2025) EllapsedTime: 271.3 seconds RetCode: 0 Status: OK PackageFile: spatialHeatmap_2.13.1.tar.gz PackageFileSize: 31.44 MiB