Package: spatialHeatmap Version: 2.13.1 Command: /home/biocbuild/bbs-3.21-bioc/R/bin/R CMD INSTALL spatialHeatmap StartedAt: 2025-02-09 15:32:13 -0500 (Sun, 09 Feb 2025) EndedAt: 2025-02-09 15:32:55 -0500 (Sun, 09 Feb 2025) EllapsedTime: 42.7 seconds RetCode: 0 Status: OK