Package: spatialHeatmap Version: 2.13.1 Command: E:\biocbuild\bbs-3.21-bioc\R\bin\R.exe CMD check --no-multiarch --install=check:spatialHeatmap.install-out.txt --library=E:\biocbuild\bbs-3.21-bioc\R\library --no-vignettes --timings spatialHeatmap_2.13.1.tar.gz StartedAt: 2025-02-10 05:42:41 -0500 (Mon, 10 Feb 2025) EndedAt: 2025-02-10 05:50:43 -0500 (Mon, 10 Feb 2025) EllapsedTime: 481.3 seconds RetCode: 0 Status: OK CheckDir: spatialHeatmap.Rcheck Warnings: 0