Package: specL Version: 1.41.0 Command: /Library/Frameworks/R.framework/Resources/bin/R CMD build --keep-empty-dirs --no-resave-data specL StartedAt: 2025-02-12 17:42:55 -0500 (Wed, 12 Feb 2025) EndedAt: 2025-02-12 17:43:05 -0500 (Wed, 12 Feb 2025) EllapsedTime: 10.1 seconds RetCode: 0 Status: OK PackageFile: specL_1.41.0.tar.gz PackageFileSize: 2.058 MiB