Package: specL Version: 1.41.0 Command: /Library/Frameworks/R.framework/Resources/bin/R CMD INSTALL specL StartedAt: 2025-02-09 15:07:00 -0500 (Sun, 09 Feb 2025) EndedAt: 2025-02-09 15:07:03 -0500 (Sun, 09 Feb 2025) EllapsedTime: 2.9 seconds RetCode: 0 Status: OK