Package: specL Version: 1.41.0 Command: /home/biocbuild/R/R/bin/R CMD INSTALL specL StartedAt: 2025-01-29 19:44:11 -0000 (Wed, 29 Jan 2025) EndedAt: 2025-01-29 19:44:18 -0000 (Wed, 29 Jan 2025) EllapsedTime: 7.2 seconds RetCode: 0 Status: OK